BEGIN:VCALENDAR
VERSION:2.0
PRODID:icalendar-ruby
CALSCALE:GREGORIAN
METHOD:PUBLISH
BEGIN:VTIMEZONE
TZID:Australia/Brisbane
BEGIN:STANDARD
DTSTART:19920301T020000
TZOFFSETFROM:+1100
TZOFFSETTO:+1000
TZNAME:AEST
END:STANDARD
END:VTIMEZONE
BEGIN:VEVENT
DTSTAMP:20260424T095801Z
UID:inspection_3010493
DTSTART;TZID=Australia/Brisbane:20260427T102000
DTEND;TZID=Australia/Brisbane:20260427T115000
CLASS:PUBLIC
CREATED:20260423T091814
DESCRIPTION: 
LAST-MODIFIED:20260423T091814
LOCATION:4 University Drive\, ROBINA QLD 4226\, Australia
SUMMARY:4 University Drive\,  Inspection
URL;VALUE=URI:http://www.joyrealty.com.au/
END:VEVENT
END:VCALENDAR
