BEGIN:VCALENDAR
VERSION:2.0
PRODID:icalendar-ruby
CALSCALE:GREGORIAN
METHOD:PUBLISH
BEGIN:VTIMEZONE
TZID:Australia/Brisbane
BEGIN:STANDARD
DTSTART:19920301T020000
TZOFFSETFROM:+1100
TZOFFSETTO:+1000
TZNAME:AEST
END:STANDARD
END:VTIMEZONE
BEGIN:VEVENT
DTSTAMP:20260421T202436Z
UID:inspection_3007796
DTSTART;TZID=Australia/Brisbane:20260422T113000
DTEND;TZID=Australia/Brisbane:20260422T120000
CLASS:PUBLIC
CREATED:20260421T152149
DESCRIPTION: 
LAST-MODIFIED:20260421T152149
LOCATION:26 / 20 Eminence Lane\, BRIDGEMAN DOWNS QLD 4035\, Australia
SUMMARY:26 / 20 Eminence Lane\,  Inspection
URL;VALUE=URI:http://www.joyrealty.com.au/
END:VEVENT
END:VCALENDAR
